BEGIN:VCALENDAR
VERSION:2.0
PRODID:-//Contratero//ES
CALSCALE:GREGORIAN
METHOD:PUBLISH
BEGIN:VEVENT
UID:G-2025/07-0075@contratero.es
DTSTAMP:20260425T020100Z
DTSTART:20251120T235959
DTEND:20251121T005959
SUMMARY:Cierre: Servicio para el soporte a la explotación y realiz
DESCRIPTION:Servicio para el soporte a la explotación y realización de evolutivos del sistema de Gestión de Exámenes de Certificación (GEC) del Instituto Cervantes.\\n\\nOrganismo: Dirección del Instituto Cervantes\\n\\nVer en Contratero: https://contratero.es/contracts/G-2025/07-0075
URL:https://contratero.es/contracts/G-2025/07-0075
STATUS:CONFIRMED
BEGIN:VALARM
TRIGGER:-P1D
ACTION:DISPLAY
DESCRIPTION:Recordatorio: Servicio para el soporte a la 
END:VALARM
END:VEVENT
END:VCALENDAR