BEGIN:VCALENDAR
VERSION:2.0
PRODID:-//Contratero//ES
CALSCALE:GREGORIAN
METHOD:PUBLISH
BEGIN:VEVENT
UID:GEN-CTTE/2021/110@contratero.es
DTSTAMP:20260424T202023Z
DTSTART:20210805T235959
DTEND:20210806T005959
SUMMARY:Cierre: Servicio de renovación de diversas licencias de Ma
DESCRIPTION:Servicio de renovación de diversas licencias de Manage Engine.\\n\\nOrganismo: Junta de Gobierno del Ayuntamiento de Cieza (Murcia)\\n\\nVer en Contratero: https://contratero.es/contracts/GEN-CTTE/2021/110
URL:https://contratero.es/contracts/GEN-CTTE/2021/110
STATUS:CONFIRMED
BEGIN:VALARM
TRIGGER:-P1D
ACTION:DISPLAY
DESCRIPTION:Recordatorio: Servicio de renovación de dive
END:VALARM
END:VEVENT
END:VCALENDAR