BEGIN:VCALENDAR
VERSION:2.0
PRODID:-//Contratero//ES
CALSCALE:GREGORIAN
METHOD:PUBLISH
BEGIN:VEVENT
UID:GEN-CTTE/2022/41@contratero.es
DTSTAMP:20260424T015055Z
DTSTART:20220523T235959
DTEND:20220524T005959
SUMMARY:Cierre: Renovación de diversas licencias de Manage Engine.
DESCRIPTION:Renovación de diversas licencias de Manage Engine.\\n\\nOrganismo: Junta de Gobierno del Ayuntamiento de Cieza (Murcia)\\n\\nVer en Contratero: https://contratero.es/contracts/GEN-CTTE/2022/41
URL:https://contratero.es/contracts/GEN-CTTE/2022/41
STATUS:CONFIRMED
BEGIN:VALARM
TRIGGER:-P1D
ACTION:DISPLAY
DESCRIPTION:Recordatorio: Renovación de diversas licenci
END:VALARM
END:VEVENT
END:VCALENDAR