BEGIN:VCALENDAR
VERSION:2.0
PRODID:-//Contratero//ES
CALSCALE:GREGORIAN
METHOD:PUBLISH
BEGIN:VEVENT
UID:GEN-CTTE/2023/52@contratero.es
DTSTAMP:20260425T200446Z
DTSTART:20230502T235959
DTEND:20230503T005959
SUMMARY:Cierre: Suministro de dos licencias adicionales de Service
DESCRIPTION:Suministro de dos licencias adicionales de Service Desk Plus para el Ayuntamiento de Cieza.\\n\\nOrganismo: Junta de Gobierno del Ayuntamiento de Cieza (Murcia)\\n\\nVer en Contratero: https://contratero.es/contracts/GEN-CTTE/2023/52
URL:https://contratero.es/contracts/GEN-CTTE/2023/52
STATUS:CONFIRMED
BEGIN:VALARM
TRIGGER:-P1D
ACTION:DISPLAY
DESCRIPTION:Recordatorio: Suministro de dos licencias ad
END:VALARM
END:VEVENT
END:VCALENDAR