BEGIN:VCALENDAR
VERSION:2.0
PRODID:-//Contratero//ES
CALSCALE:GREGORIAN
METHOD:PUBLISH
BEGIN:VEVENT
UID:GEN-CTTE/2023/57@contratero.es
DTSTAMP:20260423T165204Z
DTSTART:20230522T235959
DTEND:20230523T005959
SUMMARY:Cierre: Suministro\, instalación\, migración y formación de 
DESCRIPTION:Suministro\, instalación\, migración y formación de las aplicaciones informáticas de la gestión tributaria\, recaudación\, gestión económica del Ayuntamiento de Cieza en Cloud.\\n\\nOrganismo: Junta de Gobierno del Ayuntamiento de Cieza (Murcia)\\n\\nVer en Contratero: https://contratero.es/contracts/GEN-CTTE/2023/57
URL:https://contratero.es/contracts/GEN-CTTE/2023/57
STATUS:CONFIRMED
BEGIN:VALARM
TRIGGER:-P1D
ACTION:DISPLAY
DESCRIPTION:Recordatorio: Suministro\, instalación\, migra
END:VALARM
END:VEVENT
END:VCALENDAR