BEGIN:VCALENDAR
VERSION:2.0
PRODID:-//Contratero//ES
CALSCALE:GREGORIAN
METHOD:PUBLISH
BEGIN:VEVENT
UID:GF20_01_SER_4SS@contratero.es
DTSTAMP:20260423T133720Z
DTSTART:20200226T235959
DTEND:20200227T005959
SUMMARY:Cierre: El objeto del contrato es contar con el servicio d
DESCRIPTION:El objeto del contrato es contar con el servicio de Mantenimiento y Soporte de los sistemas Centricity PACS\, instalados por General Electric en el equipo de resonancia magnética MR 3.OT ubicado en el ...\\n\\nOrganismo: Fundación Centro de Investigación Enfermedades Neurológicas (CIEN)\\n\\nVer en Contratero: https://contratero.es/contracts/GF20_01_SER_4SS
URL:https://contratero.es/contracts/GF20_01_SER_4SS
STATUS:CONFIRMED
BEGIN:VALARM
TRIGGER:-P1D
ACTION:DISPLAY
DESCRIPTION:Recordatorio: El objeto del contrato es cont
END:VALARM
END:VEVENT
END:VCALENDAR