BEGIN:VCALENDAR
VERSION:2.0
PRODID:-//Contratero//ES
CALSCALE:GREGORIAN
METHOD:PUBLISH
BEGIN:VEVENT
UID:GPEX22006@contratero.es
DTSTAMP:20260423T194239Z
DTSTART:20221227T235959
DTEND:20221228T005959
SUMMARY:Cierre: Suministro de licencias Microsoft 365 y migración 
DESCRIPTION:Suministro de licencias Microsoft 365 y migración de plataforma de correo para GPEX\, S.A.U\\n\\nOrganismo: Dirección General de la Sociedad de Gestión Pública de Extremadura\, S.A.U.\\n\\nVer en Contratero: https://contratero.es/contracts/GPEX22006
URL:https://contratero.es/contracts/GPEX22006
STATUS:CONFIRMED
BEGIN:VALARM
TRIGGER:-P1D
ACTION:DISPLAY
DESCRIPTION:Recordatorio: Suministro de licencias Micros
END:VALARM
END:VEVENT
END:VCALENDAR