BEGIN:VCALENDAR
VERSION:2.0
PRODID:-//Contratero//ES
CALSCALE:GREGORIAN
METHOD:PUBLISH
BEGIN:VEVENT
UID:GRO-42/2025@contratero.es
DTSTAMP:20260422T120843Z
DTSTART:20250328T235959
DTEND:20250329T005959
SUMMARY:Cierre: Servicio De Mantenimiento Del Software Sistema Xov
DESCRIPTION:Servicio De Mantenimiento Del Software Sistema Xovis Y Del Sistema Integrado De Control De Accesos Y Cctv De Seguridad En El Aeropuerto De Girona-Cost\\n\\nOrganismo: Aena. Dirección del Aeropuerto de Girona-Costa Brava\\n\\nVer en Contratero: https://contratero.es/contracts/GRO-42/2025
URL:https://contratero.es/contracts/GRO-42/2025
STATUS:CONFIRMED
BEGIN:VALARM
TRIGGER:-P1D
ACTION:DISPLAY
DESCRIPTION:Recordatorio: Servicio De Mantenimiento Del 
END:VALARM
END:VEVENT
END:VCALENDAR