BEGIN:VCALENDAR
VERSION:2.0
PRODID:-//Contratero//ES
CALSCALE:GREGORIAN
METHOD:PUBLISH
BEGIN:VEVENT
UID:HAP-2026-20007@contratero.es
DTSTAMP:20260420T102907Z
DTSTART:20251210T235959
DTEND:20251211T005959
SUMMARY:Cierre: Mantenimiento aplicativos web FP
DESCRIPTION:Mantenimiento aplicativos web FP\\n\\nOrganismo: Departamento de Hacienda\, Interior y Administración Pública del Gobierno de Aragón\\n\\nVer en Contratero: https://contratero.es/contracts/HAP-2026-20007
URL:https://contratero.es/contracts/HAP-2026-20007
STATUS:CONFIRMED
BEGIN:VALARM
TRIGGER:-P1D
ACTION:DISPLAY
DESCRIPTION:Recordatorio: Mantenimiento aplicativos web 
END:VALARM
END:VEVENT
END:VCALENDAR