BEGIN:VCALENDAR
VERSION:2.0
PRODID:-//Contratero//ES
CALSCALE:GREGORIAN
METHOD:PUBLISH
BEGIN:VEVENT
UID:HIL/2023/01/F/003-13@contratero.es
DTSTAMP:20260423T041833Z
DTSTART:20241230T235959
DTEND:20241231T005959
SUMMARY:Cierre: Adquisición de material de oficina
DESCRIPTION:Adquisición de material de oficina\\n\\nOrganismo: Gerencia del Hospital Intermutual de Levante\\n\\nVer en Contratero: https://contratero.es/contracts/HIL/2023/01/F/003-13
URL:https://contratero.es/contracts/HIL/2023/01/F/003-13
STATUS:CONFIRMED
BEGIN:VALARM
TRIGGER:-P1D
ACTION:DISPLAY
DESCRIPTION:Recordatorio: Adquisición de material de ofi
END:VALARM
END:VEVENT
END:VCALENDAR