BEGIN:VCALENDAR
VERSION:2.0
PRODID:-//Contratero//ES
CALSCALE:GREGORIAN
METHOD:PUBLISH
BEGIN:VEVENT
UID:HIL/2025/02/107@contratero.es
DTSTAMP:20260422T004700Z
DTSTART:20260121T235959
DTEND:20260122T005959
SUMMARY:Cierre: Servicio de Mantenimiento y soporte técnico de las
DESCRIPTION:Servicio de Mantenimiento y soporte técnico de las licencias adquiridas del software “DOCUWARE”\\n\\nOrganismo: Gerencia del Hospital Intermutual de Levante\\n\\nVer en Contratero: https://contratero.es/contracts/HIL/2025/02/107
URL:https://contratero.es/contracts/HIL/2025/02/107
STATUS:CONFIRMED
BEGIN:VALARM
TRIGGER:-P1D
ACTION:DISPLAY
DESCRIPTION:Recordatorio: Servicio de Mantenimiento y so
END:VALARM
END:VEVENT
END:VCALENDAR