BEGIN:VCALENDAR
VERSION:2.0
PRODID:-//Contratero//ES
CALSCALE:GREGORIAN
METHOD:PUBLISH
BEGIN:VEVENT
UID:IAF-2024-663@contratero.es
DTSTAMP:20260422T062852Z
DTSTART:20241030T235959
DTEND:20241031T005959
SUMMARY:Cierre: Servicios de diseño\, elaboración y ejecución de la
DESCRIPTION:Servicios de diseño\, elaboración y ejecución de las acciones del proyecto “academia rural digital” en el marco del componente 19\, inversión 1\, del plan de recuperación\, transformación y resiliencia po...\\n\\nOrganismo: Instituto Aragonés de Fomento (IAF)\\n\\nVer en Contratero: https://contratero.es/contracts/IAF-2024-663
URL:https://contratero.es/contracts/IAF-2024-663
STATUS:CONFIRMED
BEGIN:VALARM
TRIGGER:-P1D
ACTION:DISPLAY
DESCRIPTION:Recordatorio: Servicios de diseño\, elaboraci
END:VALARM
END:VEVENT
END:VCALENDAR