BEGIN:VCALENDAR
VERSION:2.0
PRODID:-//Contratero//ES
CALSCALE:GREGORIAN
METHOD:PUBLISH
BEGIN:VEVENT
UID:ICO-22-2023@contratero.es
DTSTAMP:20260423T150445Z
DTSTART:20230503T235959
DTEND:20230504T005959
SUMMARY:Cierre: Contratación del servicio de mantenimiento evoluti
DESCRIPTION:Contratación del servicio de mantenimiento evolutivo\, adaptativo y correctivo de analítica de posición para el ICO\\n\\nOrganismo: Comisión de Contratación del Instituto de Crédito Oficial (ICO)\\n\\nVer en Contratero: https://contratero.es/contracts/ICO-22-2023
URL:https://contratero.es/contracts/ICO-22-2023
STATUS:CONFIRMED
BEGIN:VALARM
TRIGGER:-P1D
ACTION:DISPLAY
DESCRIPTION:Recordatorio: Contratación del servicio de m
END:VALARM
END:VEVENT
END:VCALENDAR