BEGIN:VCALENDAR
VERSION:2.0
PRODID:-//Contratero//ES
CALSCALE:GREGORIAN
METHOD:PUBLISH
BEGIN:VEVENT
UID:ICO_2025_EM_04@contratero.es
DTSTAMP:20260423T113642Z
DTSTART:20250521T235959
DTEND:20250522T005959
SUMMARY:Cierre: Servicio de desarrollo evolutivo\, implementación\, 
DESCRIPTION:Servicio de desarrollo evolutivo\, implementación\, mantenimiento y transición para la inclusión del producto REINICIA + FOCIT DANA en la plataforma para la contratación de productos de financiación dir...\\n\\nOrganismo: Comité de Contratación del Instituto de Crédito Oficial (ICO)\\n\\nVer en Contratero: https://contratero.es/contracts/ICO_2025_EM_04
URL:https://contratero.es/contracts/ICO_2025_EM_04
STATUS:CONFIRMED
BEGIN:VALARM
TRIGGER:-P1D
ACTION:DISPLAY
DESCRIPTION:Recordatorio: Servicio de desarrollo evoluti
END:VALARM
END:VEVENT
END:VCALENDAR