BEGIN:VCALENDAR
VERSION:2.0
PRODID:-//Contratero//ES
CALSCALE:GREGORIAN
METHOD:PUBLISH
BEGIN:VEVENT
UID:IN0058/2025@contratero.es
DTSTAMP:20260423T113635Z
DTSTART:20250627T235959
DTEND:20250628T005959
SUMMARY:Cierre: Suministro y actualización anual del software Lase
DESCRIPTION:Suministro y actualización anual del software Lasergene y EndNote\\n\\nOrganismo: Secretaría General del Instituto de Salud Carlos III\\n\\nVer en Contratero: https://contratero.es/contracts/IN0058/2025
URL:https://contratero.es/contracts/IN0058/2025
STATUS:CONFIRMED
BEGIN:VALARM
TRIGGER:-P1D
ACTION:DISPLAY
DESCRIPTION:Recordatorio: Suministro y actualización anu
END:VALARM
END:VEVENT
END:VCALENDAR