BEGIN:VCALENDAR
VERSION:2.0
PRODID:-//Contratero//ES
CALSCALE:GREGORIAN
METHOD:PUBLISH
BEGIN:VEVENT
UID:INF-SER-2019-02@contratero.es
DTSTAMP:20260421T174756Z
DTSTART:20190617T235959
DTEND:20190618T005959
SUMMARY:Cierre: Servicio de hosting en la nube y renovación de dom
DESCRIPTION:Servicio de hosting en la nube y renovación de dominios corporativos para el Cabildo Insular de La Gomera\\n\\nOrganismo: Presidencia del Cabildo Insular de La Gomera\\n\\nVer en Contratero: https://contratero.es/contracts/INF-SER-2019-02
URL:https://contratero.es/contracts/INF-SER-2019-02
STATUS:CONFIRMED
BEGIN:VALARM
TRIGGER:-P1D
ACTION:DISPLAY
DESCRIPTION:Recordatorio: Servicio de hosting en la nube
END:VALARM
END:VEVENT
END:VCALENDAR