BEGIN:VCALENDAR
VERSION:2.0
PRODID:-//Contratero//ES
CALSCALE:GREGORIAN
METHOD:PUBLISH
BEGIN:VEVENT
UID:ITER-2024-05@contratero.es
DTSTAMP:20260422T062919Z
DTSTART:20240807T235959
DTEND:20240808T005959
SUMMARY:Cierre: Equipos firewall\, productos de software de protecc
DESCRIPTION:Equipos firewall\, productos de software de protección contra amenazas cibernéticas y servicios.\\n\\nOrganismo: Consejería Delegada del Instituto Tecnológico y de Energías Renovables\, S.A.\\n\\nVer en Contratero: https://contratero.es/contracts/ITER-2024-05
URL:https://contratero.es/contracts/ITER-2024-05
STATUS:CONFIRMED
BEGIN:VALARM
TRIGGER:-P1D
ACTION:DISPLAY
DESCRIPTION:Recordatorio: Equipos firewall\, productos de
END:VALARM
END:VEVENT
END:VCALENDAR