BEGIN:VCALENDAR
VERSION:2.0
PRODID:-//Contratero//ES
CALSCALE:GREGORIAN
METHOD:PUBLISH
BEGIN:VEVENT
UID:J180022@contratero.es
DTSTAMP:20260424T213055Z
DTSTART:20180426T235959
DTEND:20180427T005959
SUMMARY:Cierre: Servicios de desarrollo evolutivo\, correctivo y pe
DESCRIPTION:Servicios de desarrollo evolutivo\, correctivo y perfectivo\, así como de soporte de sistemas de información gestionados por la Subdirección General de Tecnologías de la Información y Comunicaciones.\\n\\nOrganismo: Junta de Contratación del Ministerio de Educación y Formación Profesional\\n\\nVer en Contratero: https://contratero.es/contracts/J180022
URL:https://contratero.es/contracts/J180022
STATUS:CONFIRMED
BEGIN:VALARM
TRIGGER:-P1D
ACTION:DISPLAY
DESCRIPTION:Recordatorio: Servicios de desarrollo evolut
END:VALARM
END:VEVENT
END:VCALENDAR