BEGIN:VCALENDAR
VERSION:2.0
PRODID:-//Contratero//ES
CALSCALE:GREGORIAN
METHOD:PUBLISH
BEGIN:VEVENT
UID:J180054@contratero.es
DTSTAMP:20260426T022601Z
DTSTART:20180711T235959
DTEND:20180712T005959
SUMMARY:Cierre: Servicio de digitalización de materiales bibliográ
DESCRIPTION:Servicio de digitalización de materiales bibliográficos conservados en bibliotecas y otras instituciones de la memoria.\\n\\nOrganismo: Junta de Contratación del Ministerio de Educación\, Cultura y Deporte\\n\\nVer en Contratero: https://contratero.es/contracts/J180054
URL:https://contratero.es/contracts/J180054
STATUS:CONFIRMED
BEGIN:VALARM
TRIGGER:-P1D
ACTION:DISPLAY
DESCRIPTION:Recordatorio: Servicio de digitalización de 
END:VALARM
END:VEVENT
END:VCALENDAR