BEGIN:VCALENDAR
VERSION:2.0
PRODID:-//Contratero//ES
CALSCALE:GREGORIAN
METHOD:PUBLISH
BEGIN:VEVENT
UID:J190021@contratero.es
DTSTAMP:20260423T044759Z
DTSTART:20190701T235959
DTEND:20190702T005959
SUMMARY:Cierre: Renovación tecnológica y transformación del sistem
DESCRIPTION:Renovación tecnológica y transformación del sistema DOMUS\, de la red digital de colecciones de Museos de España y de todas las aplicaciones relacionadas con ambos sistemas de información.\\n\\nOrganismo: Junta de Contratación del Ministerio de Cultura y Deporte\\n\\nVer en Contratero: https://contratero.es/contracts/J190021
URL:https://contratero.es/contracts/J190021
STATUS:CONFIRMED
BEGIN:VALARM
TRIGGER:-P1D
ACTION:DISPLAY
DESCRIPTION:Recordatorio: Renovación tecnológica y trans
END:VALARM
END:VEVENT
END:VCALENDAR