BEGIN:VCALENDAR
VERSION:2.0
PRODID:-//Contratero//ES
CALSCALE:GREGORIAN
METHOD:PUBLISH
BEGIN:VEVENT
UID:J200007@contratero.es
DTSTAMP:20260424T190409Z
DTSTART:20200915T235959
DTEND:20200916T005959
SUMMARY:Cierre: Servicio de trabajo de campo\, cuyas tareas son la 
DESCRIPTION:Servicio de trabajo de campo\, cuyas tareas son la aplicación de la gestión de datos y la codificación\, para el estudio principal de "PIRLS 2001" de la Agencia internacional para la evaluación del rend...\\n\\nOrganismo: Junta de Contratación del Ministerio de Educación y Formación Profesional\\n\\nVer en Contratero: https://contratero.es/contracts/J200007
URL:https://contratero.es/contracts/J200007
STATUS:CONFIRMED
BEGIN:VALARM
TRIGGER:-P1D
ACTION:DISPLAY
DESCRIPTION:Recordatorio: Servicio de trabajo de campo\, 
END:VALARM
END:VEVENT
END:VCALENDAR