BEGIN:VCALENDAR
VERSION:2.0
PRODID:-//Contratero//ES
CALSCALE:GREGORIAN
METHOD:PUBLISH
BEGIN:VEVENT
UID:J210059@contratero.es
DTSTAMP:20260424T130558Z
DTSTART:20220124T235959
DTEND:20220125T005959
SUMMARY:Cierre: Servicio de una oficina de ciberseguridad en el Mi
DESCRIPTION:Servicio de una oficina de ciberseguridad en el Ministerio de Cultura y Deporte\, en el ámbito de los sistemas y comunicaciones gestionadas por la División de Tecnologías de la Información\\n\\nOrganismo: Junta de Contratación del Ministerio de Cultura y Deporte\\n\\nVer en Contratero: https://contratero.es/contracts/J210059
URL:https://contratero.es/contracts/J210059
STATUS:CONFIRMED
BEGIN:VALARM
TRIGGER:-P1D
ACTION:DISPLAY
DESCRIPTION:Recordatorio: Servicio de una oficina de cib
END:VALARM
END:VEVENT
END:VCALENDAR