BEGIN:VCALENDAR
VERSION:2.0
PRODID:-//Contratero//ES
CALSCALE:GREGORIAN
METHOD:PUBLISH
BEGIN:VEVENT
UID:J22.002.16@contratero.es
DTSTAMP:20260423T040722Z
DTSTART:20220404T235959
DTEND:20220405T005959
SUMMARY:Cierre: Servicio de asistencia técnica para la revisión y 
DESCRIPTION:Servicio de asistencia técnica para la revisión y actualización de la base de datos de ayudas e incentivos de la Dirección General de Industria y PYME del Ministerio de Industria\, Comercio y Turismo\\n\\nOrganismo: Junta de Contratación del Ministerio de Industria\, Comercio y Turismo\\n\\nVer en Contratero: https://contratero.es/contracts/J22.002.16
URL:https://contratero.es/contracts/J22.002.16
STATUS:CONFIRMED
BEGIN:VALARM
TRIGGER:-P1D
ACTION:DISPLAY
DESCRIPTION:Recordatorio: Servicio de asistencia técnica
END:VALARM
END:VEVENT
END:VCALENDAR