BEGIN:VCALENDAR
VERSION:2.0
PRODID:-//Contratero//ES
CALSCALE:GREGORIAN
METHOD:PUBLISH
BEGIN:VEVENT
UID:J24.023.16@contratero.es
DTSTAMP:20260424T213055Z
DTSTART:20240902T235959
DTEND:20240903T005959
SUMMARY:Cierre: Servicio de asistencia técnica para la revisión y 
DESCRIPTION:Servicio de asistencia técnica para la revisión y actualización de la base de datos de ayudas e incentivos y el mantenimiento técnico de las herramientas y portales de la Dirección General de Estrateg...\\n\\nOrganismo: Junta de Contratación del Ministerio de Industria\, Comercio y Turismo\\n\\nVer en Contratero: https://contratero.es/contracts/J24.023.16
URL:https://contratero.es/contracts/J24.023.16
STATUS:CONFIRMED
BEGIN:VALARM
TRIGGER:-P1D
ACTION:DISPLAY
DESCRIPTION:Recordatorio: Servicio de asistencia técnica
END:VALARM
END:VEVENT
END:VCALENDAR