BEGIN:VCALENDAR
VERSION:2.0
PRODID:-//Contratero//ES
CALSCALE:GREGORIAN
METHOD:PUBLISH
BEGIN:VEVENT
UID:J240014A@contratero.es
DTSTAMP:20260420T151336Z
DTSTART:20240712T235959
DTEND:20240713T005959
SUMMARY:Cierre: Servicio de asistencia técnica para el apoyo infor
DESCRIPTION:Servicio de asistencia técnica para el apoyo informático al profesorado de los centros educativos\, no universitarios\, sostenidos con fondos públicos\, de la Ciudad de Ceuta.\\n\\nOrganismo: Junta de Contratación del Ministerio de Educación\, Formación Profesional y Deportes\\n\\nVer en Contratero: https://contratero.es/contracts/J240014A
URL:https://contratero.es/contracts/J240014A
STATUS:CONFIRMED
BEGIN:VALARM
TRIGGER:-P1D
ACTION:DISPLAY
DESCRIPTION:Recordatorio: Servicio de asistencia técnica
END:VALARM
END:VEVENT
END:VCALENDAR