BEGIN:VCALENDAR
VERSION:2.0
PRODID:-//Contratero//ES
CALSCALE:GREGORIAN
METHOD:PUBLISH
BEGIN:VEVENT
UID:J240067@contratero.es
DTSTAMP:20260419T130020Z
DTSTART:20250424T235959
DTEND:20250425T005959
SUMMARY:Cierre: Servicio de digitalización\, catalogación y tratami
DESCRIPTION:Servicio de digitalización\, catalogación y tratamiento documental de materiales bibliográficos conservados en diversas instituciones españolas\\n\\nOrganismo: Junta de Contratación del Ministerio de Cultura y Deporte\\n\\nVer en Contratero: https://contratero.es/contracts/J240067
URL:https://contratero.es/contracts/J240067
STATUS:CONFIRMED
BEGIN:VALARM
TRIGGER:-P1D
ACTION:DISPLAY
DESCRIPTION:Recordatorio: Servicio de digitalización\, ca
END:VALARM
END:VEVENT
END:VCALENDAR