BEGIN:VCALENDAR
VERSION:2.0
PRODID:-//Contratero//ES
CALSCALE:GREGORIAN
METHOD:PUBLISH
BEGIN:VEVENT
UID:J25.025.01@contratero.es
DTSTAMP:20260419T153406Z
DTSTART:20260303T235959
DTEND:20260304T005959
SUMMARY:Cierre: Suministro de licencias para actualización de prod
DESCRIPTION:Suministro de licencias para actualización de productos software del fabricante Oracle para el Ministerio de Industria y Turismo\\n\\nOrganismo: Junta de Contratación del Ministerio de Industria y Turismo\\n\\nVer en Contratero: https://contratero.es/contracts/J25.025.01
URL:https://contratero.es/contracts/J25.025.01
STATUS:CONFIRMED
BEGIN:VALARM
TRIGGER:-P1D
ACTION:DISPLAY
DESCRIPTION:Recordatorio: Suministro de licencias para a
END:VALARM
END:VEVENT
END:VCALENDAR