BEGIN:VCALENDAR
VERSION:2.0
PRODID:-//Contratero//ES
CALSCALE:GREGORIAN
METHOD:PUBLISH
BEGIN:VEVENT
UID:J260003@contratero.es
DTSTAMP:20260420T131606Z
DTSTART:20260420T235959
DTEND:20260421T005959
SUMMARY:Cierre: Servicio de mantenimiento de las cabinas de almace
DESCRIPTION:Servicio de mantenimiento de las cabinas de almacenamiento NAS y SAN del Ministerio de Cultura.\\n\\nOrganismo: Junta de Contratación del Ministerio de Cultura\\n\\nVer en Contratero: https://contratero.es/contracts/J260003
URL:https://contratero.es/contracts/J260003
STATUS:CONFIRMED
BEGIN:VALARM
TRIGGER:-P1D
ACTION:DISPLAY
DESCRIPTION:Recordatorio: Servicio de mantenimiento de l
END:VALARM
END:VEVENT
END:VCALENDAR