BEGIN:VCALENDAR
VERSION:2.0
PRODID:-//Contratero//ES
CALSCALE:GREGORIAN
METHOD:PUBLISH
BEGIN:VEVENT
UID:JGL-SERV/2023000048@contratero.es
DTSTAMP:20260422T120055Z
DTSTART:20231023T235959
DTEND:20231024T005959
SUMMARY:Cierre: Contratación correo electrónico corporativo
DESCRIPTION:Contratación correo electrónico corporativo\\n\\nOrganismo: Junta de Gobierno del Ayuntamiento de La Vall d'Uixó\\n\\nVer en Contratero: https://contratero.es/contracts/JGL-SERV/2023000048
URL:https://contratero.es/contracts/JGL-SERV/2023000048
STATUS:CONFIRMED
BEGIN:VALARM
TRIGGER:-P1D
ACTION:DISPLAY
DESCRIPTION:Recordatorio: Contratación correo electrónic
END:VALARM
END:VEVENT
END:VCALENDAR