BEGIN:VCALENDAR
VERSION:2.0
PRODID:-//Contratero//ES
CALSCALE:GREGORIAN
METHOD:PUBLISH
BEGIN:VEVENT
UID:JN210021@contratero.es
DTSTAMP:20260424T122943Z
DTSTART:20211102T235959
DTEND:20211103T005959
SUMMARY:Cierre: Suministro de licencias de productos lógicos de la
DESCRIPTION:Suministro de licencias de productos lógicos de la firma ORACLE\, instalados en los Servicios Centrales del Ministerio de Educación y Formación Profesional\\n\\nOrganismo: Junta de Contratación del Ministerio de Educación y Formación Profesional\\n\\nVer en Contratero: https://contratero.es/contracts/JN210021
URL:https://contratero.es/contracts/JN210021
STATUS:CONFIRMED
BEGIN:VALARM
TRIGGER:-P1D
ACTION:DISPLAY
DESCRIPTION:Recordatorio: Suministro de licencias de pro
END:VALARM
END:VEVENT
END:VCALENDAR