BEGIN:VCALENDAR
VERSION:2.0
PRODID:-//Contratero//ES
CALSCALE:GREGORIAN
METHOD:PUBLISH
BEGIN:VEVENT
UID:JS190011@contratero.es
DTSTAMP:20260425T194930Z
DTSTART:20190520T235959
DTEND:20190521T005959
SUMMARY:Cierre: Gestión\, administración y mantenimiento de bases d
DESCRIPTION:Gestión\, administración y mantenimiento de bases de datos documentales y de la red informática de área local de la Subdirección General de Promoción del Libro\, la Lectura y las Letras Españolas.\\n\\nOrganismo: Junta de Contratación del Ministerio de Cultura y Deporte\\n\\nVer en Contratero: https://contratero.es/contracts/JS190011
URL:https://contratero.es/contracts/JS190011
STATUS:CONFIRMED
BEGIN:VALARM
TRIGGER:-P1D
ACTION:DISPLAY
DESCRIPTION:Recordatorio: Gestión\, administración y mant
END:VALARM
END:VEVENT
END:VCALENDAR