BEGIN:VCALENDAR
VERSION:2.0
PRODID:-//Contratero//ES
CALSCALE:GREGORIAN
METHOD:PUBLISH
BEGIN:VEVENT
UID:JS230011@contratero.es
DTSTAMP:20260421T211433Z
DTSTART:20230601T235959
DTEND:20230602T005959
SUMMARY:Cierre: Digitalización de la documentación de la Audiencia
DESCRIPTION:Digitalización de la documentación de la Audiencia de Filipinas\, conservada en el Archivo General de Indias (Fase 1)\\n\\nOrganismo: Junta de Contratación del Ministerio de Cultura y Deporte\\n\\nVer en Contratero: https://contratero.es/contracts/JS230011
URL:https://contratero.es/contracts/JS230011
STATUS:CONFIRMED
BEGIN:VALARM
TRIGGER:-P1D
ACTION:DISPLAY
DESCRIPTION:Recordatorio: Digitalización de la documenta
END:VALARM
END:VEVENT
END:VCALENDAR