BEGIN:VCALENDAR
VERSION:2.0
PRODID:-//Contratero//ES
CALSCALE:GREGORIAN
METHOD:PUBLISH
BEGIN:VEVENT
UID:L-SE-28-2019@contratero.es
DTSTAMP:20260425T113751Z
DTSTART:20190702T235959
DTEND:20190703T005959
SUMMARY:Cierre: actualizacion y mantenimiento integral del sistema
DESCRIPTION:actualizacion y mantenimiento integral del sistema de informacion xcelera solucion de gestion de imagen cardiologica del chguv\\n\\nOrganismo: Consorcio Hospital General Universitario de Valencia\\n\\nVer en Contratero: https://contratero.es/contracts/L-SE-28-2019
URL:https://contratero.es/contracts/L-SE-28-2019
STATUS:CONFIRMED
BEGIN:VALARM
TRIGGER:-P1D
ACTION:DISPLAY
DESCRIPTION:Recordatorio: actualizacion y mantenimiento 
END:VALARM
END:VEVENT
END:VCALENDAR