BEGIN:VCALENDAR
VERSION:2.0
PRODID:-//Contratero//ES
CALSCALE:GREGORIAN
METHOD:PUBLISH
BEGIN:VEVENT
UID:L03380011-LA0001763-E2024020427@contratero.es
DTSTAMP:20260421T122457Z
DTSTART:20250609T235959
DTEND:20250610T005959
SUMMARY:Cierre: Servicio del Centro de Atención a Usuarios (CAU) y
DESCRIPTION:Servicio del Centro de Atención a Usuarios (CAU) y Apoyo TIC (ATIC).\\n\\nOrganismo: Consejo de Gobierno Insular del Cabildo Insular de Tenerife\\n\\nVer en Contratero: https://contratero.es/contracts/L03380011-LA0001763-E2024020427
URL:https://contratero.es/contracts/L03380011-LA0001763-E2024020427
STATUS:CONFIRMED
BEGIN:VALARM
TRIGGER:-P1D
ACTION:DISPLAY
DESCRIPTION:Recordatorio: Servicio del Centro de Atenció
END:VALARM
END:VEVENT
END:VCALENDAR