BEGIN:VCALENDAR
VERSION:2.0
PRODID:-//Contratero//ES
CALSCALE:GREGORIAN
METHOD:PUBLISH
BEGIN:VEVENT
UID:L03380011-LA0001763-E2025002400@contratero.es
DTSTAMP:20260421T140157Z
DTSTART:20250612T235959
DTEND:20250613T005959
SUMMARY:Cierre: Contrato de suministro y renovación de las licenci
DESCRIPTION:Contrato de suministro y renovación de las licencias Microsoft Office 365 o equivalente.\\n\\nOrganismo: Dirección Insular de Recursos Humanos\, Servicio Público y Transformación Digital del Cabildo Insular de Tenerife\\n\\nVer en Contratero: https://contratero.es/contracts/L03380011-LA0001763-E2025002400
URL:https://contratero.es/contracts/L03380011-LA0001763-E2025002400
STATUS:CONFIRMED
BEGIN:VALARM
TRIGGER:-P1D
ACTION:DISPLAY
DESCRIPTION:Recordatorio: Contrato de suministro y renov
END:VALARM
END:VEVENT
END:VCALENDAR