BEGIN:VCALENDAR
VERSION:2.0
PRODID:-//Contratero//ES
CALSCALE:GREGORIAN
METHOD:PUBLISH
BEGIN:VEVENT
UID:L03380011-LA0001763-E2025005866@contratero.es
DTSTAMP:20260420T224007Z
DTSTART:20250925T235959
DTEND:20250926T005959
SUMMARY:Cierre: Servicio de implantación\, prestación y mejora cont
DESCRIPTION:Servicio de implantación\, prestación y mejora continua del Centro de Operaciones de Ciberseguridad (SOC) de Tenerife.\\n\\nOrganismo: Consejo de Gobierno Insular del Cabildo Insular de Tenerife\\n\\nVer en Contratero: https://contratero.es/contracts/L03380011-LA0001763-E2025005866
URL:https://contratero.es/contracts/L03380011-LA0001763-E2025005866
STATUS:CONFIRMED
BEGIN:VALARM
TRIGGER:-P1D
ACTION:DISPLAY
DESCRIPTION:Recordatorio: Servicio de implantación\, pres
END:VALARM
END:VEVENT
END:VCALENDAR