BEGIN:VCALENDAR
VERSION:2.0
PRODID:-//Contratero//ES
CALSCALE:GREGORIAN
METHOD:PUBLISH
BEGIN:VEVENT
UID:L03380011-LA0001763-E2025011583@contratero.es
DTSTAMP:20260420T013754Z
DTSTART:20251125T235959
DTEND:20251126T005959
SUMMARY:Cierre: El servicio objeto de la contratación comprende el
DESCRIPTION:El servicio objeto de la contratación comprende el soporte mantenimiento preventivo\, correctivo y evolutivo de la solución CRM desarrollada sobre Microsoft Dynamics 356\, implantada como eje central de...\\n\\nOrganismo: Consejo de Gobierno Insular del Cabildo Insular de Tenerife\\n\\nVer en Contratero: https://contratero.es/contracts/L03380011-LA0001763-E2025011583
URL:https://contratero.es/contracts/L03380011-LA0001763-E2025011583
STATUS:CONFIRMED
BEGIN:VALARM
TRIGGER:-P1D
ACTION:DISPLAY
DESCRIPTION:Recordatorio: El servicio objeto de la contr
END:VALARM
END:VEVENT
END:VCALENDAR