BEGIN:VCALENDAR
VERSION:2.0
PRODID:-//Contratero//ES
CALSCALE:GREGORIAN
METHOD:PUBLISH
BEGIN:VEVENT
UID:LASOLANA2025/4858@contratero.es
DTSTAMP:20260422T102718Z
DTSTART:20250710T235959
DTEND:20250711T005959
SUMMARY:Cierre: Contrato negociado sin publicidad para el proceso 
DESCRIPTION:Contrato negociado sin publicidad para el proceso de contratación de exclusividad del servicio para la suscripción a entornos telemáticos de portal de empleo y planes de viabilidad (portalemp y viapla...\\n\\nOrganismo: Alcaldía del Ayuntamiento de La Solana\\n\\nVer en Contratero: https://contratero.es/contracts/LASOLANA2025/4858
URL:https://contratero.es/contracts/LASOLANA2025/4858
STATUS:CONFIRMED
BEGIN:VALARM
TRIGGER:-P1D
ACTION:DISPLAY
DESCRIPTION:Recordatorio: Contrato negociado sin publici
END:VALARM
END:VEVENT
END:VCALENDAR