BEGIN:VCALENDAR
VERSION:2.0
PRODID:-//Contratero//ES
CALSCALE:GREGORIAN
METHOD:PUBLISH
BEGIN:VEVENT
UID:LIC-10379@contratero.es
DTSTAMP:20260420T140507Z
DTSTART:20251024T235959
DTEND:20251025T005959
SUMMARY:Cierre: Contratación de los servicios de reingeniería de p
DESCRIPTION:Contratación de los servicios de reingeniería de procesos y desarrollo de una solución para las contrataciones del Banco de España sobre la plataforma SAP Rise\\n\\nOrganismo: Banco de España\\n\\nVer en Contratero: https://contratero.es/contracts/LIC-10379
URL:https://contratero.es/contracts/LIC-10379
STATUS:CONFIRMED
BEGIN:VALARM
TRIGGER:-P1D
ACTION:DISPLAY
DESCRIPTION:Recordatorio: Contratación de los servicios 
END:VALARM
END:VEVENT
END:VCALENDAR