BEGIN:VCALENDAR
VERSION:2.0
PRODID:-//Contratero//ES
CALSCALE:GREGORIAN
METHOD:PUBLISH
BEGIN:VEVENT
UID:LIC-10576@contratero.es
DTSTAMP:20260424T003003Z
DTSTART:20251006T235959
DTEND:20251007T005959
SUMMARY:Cierre: Contratación de los servicios de consultoría para 
DESCRIPTION:Contratación de los servicios de consultoría para la mejora del contenido\, lenguaje y diseño del Portal de Transparencia del Banco de España\\n\\nOrganismo: Banco de España\\n\\nVer en Contratero: https://contratero.es/contracts/LIC-10576
URL:https://contratero.es/contracts/LIC-10576
STATUS:CONFIRMED
BEGIN:VALARM
TRIGGER:-P1D
ACTION:DISPLAY
DESCRIPTION:Recordatorio: Contratación de los servicios 
END:VALARM
END:VEVENT
END:VCALENDAR