BEGIN:VCALENDAR
VERSION:2.0
PRODID:-//Contratero//ES
CALSCALE:GREGORIAN
METHOD:PUBLISH
BEGIN:VEVENT
UID:LIC-10670@contratero.es
DTSTAMP:20260423T231105Z
DTSTART:20251215T235959
DTEND:20251216T005959
SUMMARY:Cierre: Contratación de servicios profesionales de desarro
DESCRIPTION:Contratación de servicios profesionales de desarrollo de automatizaciones para verificación de documentación en el Ministerio de Ciencia\, Innovación y Universidades en el ámbito de la CIR en el proces...\\n\\nOrganismo: Banco de España\\n\\nVer en Contratero: https://contratero.es/contracts/LIC-10670
URL:https://contratero.es/contracts/LIC-10670
STATUS:CONFIRMED
BEGIN:VALARM
TRIGGER:-P1D
ACTION:DISPLAY
DESCRIPTION:Recordatorio: Contratación de servicios prof
END:VALARM
END:VEVENT
END:VCALENDAR