BEGIN:VCALENDAR
VERSION:2.0
PRODID:-//Contratero//ES
CALSCALE:GREGORIAN
METHOD:PUBLISH
BEGIN:VEVENT
UID:LIC-7551@contratero.es
DTSTAMP:20260422T130414Z
DTSTART:20251027T235959
DTEND:20251028T005959
SUMMARY:Cierre: Contratación del suministro de hardware y suscripc
DESCRIPTION:Contratación del suministro de hardware y suscripción de licencias y del mantenimiento asociado\, así como del servicio de mantenimiento de hardware y licencias de software de soluciones de las infraes...\\n\\nOrganismo: Banco de España\\n\\nVer en Contratero: https://contratero.es/contracts/LIC-7551
URL:https://contratero.es/contracts/LIC-7551
STATUS:CONFIRMED
BEGIN:VALARM
TRIGGER:-P1D
ACTION:DISPLAY
DESCRIPTION:Recordatorio: Contratación del suministro de
END:VALARM
END:VEVENT
END:VCALENDAR