BEGIN:VCALENDAR
VERSION:2.0
PRODID:-//Contratero//ES
CALSCALE:GREGORIAN
METHOD:PUBLISH
BEGIN:VEVENT
UID:LIC-7566@contratero.es
DTSTAMP:20260421T104446Z
DTSTART:20250711T235959
DTEND:20250712T005959
SUMMARY:Cierre: Servicio para la gobernanza\, normativa\, cumplimien
DESCRIPTION:Servicio para la gobernanza\, normativa\, cumplimiento e innovación en materia de la seguridad de la información\, ciberresiliencia y privacidad \nContrato basado del Lote A. Servicios para la gobernanza...\\n\\nOrganismo: Banco de España\\n\\nVer en Contratero: https://contratero.es/contracts/LIC-7566
URL:https://contratero.es/contracts/LIC-7566
STATUS:CONFIRMED
BEGIN:VALARM
TRIGGER:-P1D
ACTION:DISPLAY
DESCRIPTION:Recordatorio: Servicio para la gobernanza\, n
END:VALARM
END:VEVENT
END:VCALENDAR