BEGIN:VCALENDAR
VERSION:2.0
PRODID:-//Contratero//ES
CALSCALE:GREGORIAN
METHOD:PUBLISH
BEGIN:VEVENT
UID:LIC-9811@contratero.es
DTSTAMP:20260423T035235Z
DTSTART:20251114T235959
DTEND:20251115T005959
SUMMARY:Cierre: Servicios de apoyo de mejoras y nuevos desarrollos
DESCRIPTION:Servicios de apoyo de mejoras y nuevos desarrollos para la infraestructura de clave pública del Banco de España (PKI BDE)\\n\\nOrganismo: Banco de España\\n\\nVer en Contratero: https://contratero.es/contracts/LIC-9811
URL:https://contratero.es/contracts/LIC-9811
STATUS:CONFIRMED
BEGIN:VALARM
TRIGGER:-P1D
ACTION:DISPLAY
DESCRIPTION:Recordatorio: Servicios de apoyo de mejoras 
END:VALARM
END:VEVENT
END:VCALENDAR