BEGIN:VCALENDAR
VERSION:2.0
PRODID:-//Contratero//ES
CALSCALE:GREGORIAN
METHOD:PUBLISH
BEGIN:VEVENT
UID:LIC/2024/0006@contratero.es
DTSTAMP:20260420T200301Z
DTSTART:20240922T235959
DTEND:20240923T005959
SUMMARY:Cierre: Contrato de servicio de software educativo “LEICA 
DESCRIPTION:Contrato de servicio de software educativo “LEICA PARA ESCANEO LÁSER TERRESTRE” para la Fundación Instituto de Hidráulica Ambiental de Cantabria Fundación del Sector Público\\n\\nOrganismo: Comisión Delegada del Patronato de la Fundación Instituto de Hidráulica Ambiental de Cantabria\\n\\nVer en Contratero: https://contratero.es/contracts/LIC/2024/0006
URL:https://contratero.es/contracts/LIC/2024/0006
STATUS:CONFIRMED
BEGIN:VALARM
TRIGGER:-P1D
ACTION:DISPLAY
DESCRIPTION:Recordatorio: Contrato de servicio de softwa
END:VALARM
END:VEVENT
END:VCALENDAR