BEGIN:VCALENDAR
VERSION:2.0
PRODID:-//Contratero//ES
CALSCALE:GREGORIAN
METHOD:PUBLISH
BEGIN:VEVENT
UID:LIC02_000001/2023@contratero.es
DTSTAMP:20260421T010225Z
DTSTART:20230202T235959
DTEND:20230203T005959
SUMMARY:Cierre: Servei de consultoria i assessorament per a la ges
DESCRIPTION:Servei de consultoria i assessorament per a la gestió dels procediments de licitació electrònica a través de la Plataforma de Contractació del Sector Públic\\n\\nOrganismo: Consejería Delegada de Servicios Informáticos Local de Menorca\, S.A.\\n\\nVer en Contratero: https://contratero.es/contracts/LIC02_000001/2023
URL:https://contratero.es/contracts/LIC02_000001/2023
STATUS:CONFIRMED
BEGIN:VALARM
TRIGGER:-P1D
ACTION:DISPLAY
DESCRIPTION:Recordatorio: Servei de consultoria i assess
END:VALARM
END:VEVENT
END:VCALENDAR