BEGIN:VCALENDAR
VERSION:2.0
PRODID:-//Contratero//ES
CALSCALE:GREGORIAN
METHOD:PUBLISH
BEGIN:VEVENT
UID:LIC04_000001/2023@contratero.es
DTSTAMP:20260424T150142Z
DTSTART:20230303T235959
DTEND:20230304T005959
SUMMARY:Cierre: Renovació Llicència Password Manager Pro
DESCRIPTION:Renovació Llicència Password Manager Pro\\n\\nOrganismo: Consejería Delegada de Servicios Informáticos Local de Menorca\, S.A.\\n\\nVer en Contratero: https://contratero.es/contracts/LIC04_000001/2023
URL:https://contratero.es/contracts/LIC04_000001/2023
STATUS:CONFIRMED
BEGIN:VALARM
TRIGGER:-P1D
ACTION:DISPLAY
DESCRIPTION:Recordatorio: Renovació Llicència Password M
END:VALARM
END:VEVENT
END:VCALENDAR