BEGIN:VCALENDAR
VERSION:2.0
PRODID:-//Contratero//ES
CALSCALE:GREGORIAN
METHOD:PUBLISH
BEGIN:VEVENT
UID:LICT/99/031/2025/0037@contratero.es
DTSTAMP:20260421T174928Z
DTSTART:20250711T235959
DTEND:20250712T005959
SUMMARY:Cierre: Contratación del suministro de licenciamiento del 
DESCRIPTION:Contratación del suministro de licenciamiento del software FlippingBook Team para FREMAP\, Mutua colaboradora con la Seguridad Social nº 61\\n\\nOrganismo: Director Gerente de FREMAP\\n\\nVer en Contratero: https://contratero.es/contracts/LICT/99/031/2025/0037
URL:https://contratero.es/contracts/LICT/99/031/2025/0037
STATUS:CONFIRMED
BEGIN:VALARM
TRIGGER:-P1D
ACTION:DISPLAY
DESCRIPTION:Recordatorio: Contratación del suministro de
END:VALARM
END:VEVENT
END:VCALENDAR