BEGIN:VCALENDAR
VERSION:2.0
PRODID:-//Contratero//ES
CALSCALE:GREGORIAN
METHOD:PUBLISH
BEGIN:VEVENT
UID:LICT/99/032/2023/0244@contratero.es
DTSTAMP:20260422T091216Z
DTSTART:20241108T235959
DTEND:20241109T005959
SUMMARY:Cierre: Contratación del servicio de licencias de Adobe y 
DESCRIPTION:Contratación del servicio de licencias de Adobe y Autocad para FREMAP\, Mutua Colaboradora con la Seguridad Social nº 61.\\n\\nOrganismo: Director Gerente de FREMAP\\n\\nVer en Contratero: https://contratero.es/contracts/LICT/99/032/2023/0244
URL:https://contratero.es/contracts/LICT/99/032/2023/0244
STATUS:CONFIRMED
BEGIN:VALARM
TRIGGER:-P1D
ACTION:DISPLAY
DESCRIPTION:Recordatorio: Contratación del servicio de l
END:VALARM
END:VEVENT
END:VCALENDAR