BEGIN:VCALENDAR
VERSION:2.0
PRODID:-//Contratero//ES
CALSCALE:GREGORIAN
METHOD:PUBLISH
BEGIN:VEVENT
UID:LICT/99/142/2025/0089@contratero.es
DTSTAMP:20260422T032208Z
DTSTART:20251223T235959
DTEND:20251224T005959
SUMMARY:Cierre: Contratación del suministro de licencias de un sof
DESCRIPTION:Contratación del suministro de licencias de un software de evaluación ergonómica avanzada para FREMAP\, Mutua colaboradora con la Seguridad Social nº61\\n\\nOrganismo: Director Gerente de FREMAP\\n\\nVer en Contratero: https://contratero.es/contracts/LICT/99/142/2025/0089
URL:https://contratero.es/contracts/LICT/99/142/2025/0089
STATUS:CONFIRMED
BEGIN:VALARM
TRIGGER:-P1D
ACTION:DISPLAY
DESCRIPTION:Recordatorio: Contratación del suministro de
END:VALARM
END:VEVENT
END:VCALENDAR